BEGIN:VCALENDAR
VERSION:2.0
PRODID:-//wp-events-plugin.com//5.99912//EN
TZID:Europe/Berlin
X-WR-TIMEZONE:Europe/Berlin
BEGIN:VEVENT
UID:0-357@heldenfingen.albverein.eu
DTSTART;TZID=Europe/Berlin;VALUE=DATE:20260501
DTEND;TZID=Europe/Berlin;VALUE=DATE:20260502
DTSTAMP:20260409T182042Z
URL:https://heldenfingen.albverein.eu/events/fruehwanderung-zum-bierzelt-s
 vh/
SUMMARY:Frühwanderung zum Bierzelt SVH
DESCRIPTION:Mit Wanderführer Philipp Eckart geht es bei einer Frühwanderu
 ng zum Sportverein in das Bierzelt.\nNähere Angaben zu dieser Wanderung f
 olgen in Kürze.\n\nZu dieser Wanderung sind auch Nichtmitglieder recht he
 rzlich eingeladen.
LOCATION:Schule Parkplatz\, Flurstraße 6\, Heldenfingen\, 89547\, Deutschl
 and
GEO:48.60428;10.070569999999975
X-APPLE-STRUCTURED-LOCATION;VALUE=URI;X-ADDRESS=Flurstraße 6\, Heldenfinge
 n\, 89547\, Deutschland;X-APPLE-RADIUS=100;X-TITLE=Schule Parkplatz:geo:48
 .60428,10.070569999999975
END:VEVENT
BEGIN:VTIMEZONE
TZID:Europe/Berlin
X-LIC-LOCATION:Europe/Berlin
BEGIN:DAYLIGHT
DTSTART:20260329T030000
TZOFFSETFROM:+0100
TZOFFSETTO:+0200
TZNAME:CEST
END:DAYLIGHT
END:VTIMEZONE
END:VCALENDAR