BEGIN:VCALENDAR
VERSION:2.0
PRODID:-//wp-events-plugin.com//5.99912//EN
TZID:Europe/Berlin
X-WR-TIMEZONE:Europe/Berlin
BEGIN:VEVENT
UID:0-355@heldenfingen.albverein.eu
DTSTART;TZID=Europe/Berlin;VALUE=DATE:20260425
DTEND;TZID=Europe/Berlin;VALUE=DATE:20260427
DTSTAMP:20251229T225113Z
URL:https://heldenfingen.albverein.eu/events/hw2-wanderung/
SUMMARY:HW2 Wanderung
DESCRIPTION:Mit Wanderführer Hansjörg Dauner und Klaus Steinat geht es be
 i unserer HW2 Wanderung zu unserer letzten Etappe von Finningen nach Donau
 wörth.\n\nDiese 2-Tageswanderung ist bereits ausgebucht!
LOCATION:Schule Parkplatz\, Flurstraße 6\, Heldenfingen\, 89547\, Deutschl
 and
GEO:48.60428;10.070569999999975
X-APPLE-STRUCTURED-LOCATION;VALUE=URI;X-ADDRESS=Flurstraße 6\, Heldenfinge
 n\, 89547\, Deutschland;X-APPLE-RADIUS=100;X-TITLE=Schule Parkplatz:geo:48
 .60428,10.070569999999975
END:VEVENT
BEGIN:VTIMEZONE
TZID:Europe/Berlin
X-LIC-LOCATION:Europe/Berlin
BEGIN:DAYLIGHT
DTSTART:20260329T030000
TZOFFSETFROM:+0100
TZOFFSETTO:+0200
TZNAME:CEST
END:DAYLIGHT
END:VTIMEZONE
END:VCALENDAR