BEGIN:VCALENDAR
VERSION:2.0
PRODID:-//wp-events-plugin.com//5.99912//EN
TZID:Europe/Berlin
X-WR-TIMEZONE:Europe/Berlin
BEGIN:VEVENT
UID:0-360@heldenfingen.albverein.eu
DTSTART;TZID=Europe/Berlin:20260430T180000
DTEND;TZID=Europe/Berlin:20260430T220000
DTSTAMP:20260412T084031Z
URL:https://heldenfingen.albverein.eu/events/maibaum-aufstellen-5/
SUMMARY:Maibaum aufstellen
DESCRIPTION:Herzliche Einladung zum Fest rund um den Heldenfinger Maibaum\n
 Ein Dorf ohne Maibaum\, das ist bei uns einfach undenkbar!\nDeshalb wird a
 m Donnerstag den 30. April 2026 unser Heldenfinger Maibaum beim Gasthau
 s Hirsch aufgestellt.\nGegen 18°° Uhr soll unser wunderschöner Baum in
  den Himmel ragen um von allen Seiten bewundert werden zu können.\nDamit 
 einem gemütlichen Zusammensein nichts im Wege steht\, ist für das leibli
 che Wohl bestens gesorgt.\nAuf Ihr zahlreiches Kommen freut sich die SAV O
 G Heldenfingen.\n\n
LOCATION:Gasthaus Hirsch\, Untere Hirsch Str. \, Heldenfingen\, 89547\, Deu
 tschland
GEO:48.6062205;10.071034300000065
X-APPLE-STRUCTURED-LOCATION;VALUE=URI;X-ADDRESS=Untere Hirsch Str. \, Helde
 nfingen\, 89547\, Deutschland;X-APPLE-RADIUS=100;X-TITLE=Gasthaus Hirsch:g
 eo:48.6062205,10.071034300000065
END:VEVENT
BEGIN:VTIMEZONE
TZID:Europe/Berlin
X-LIC-LOCATION:Europe/Berlin
BEGIN:DAYLIGHT
DTSTART:20260329T030000
TZOFFSETFROM:+0100
TZOFFSETTO:+0200
TZNAME:CEST
END:DAYLIGHT
END:VTIMEZONE
END:VCALENDAR