BEGIN:VCALENDAR
VERSION:2.0
PRODID:-//wp-events-plugin.com//5.99912//EN
TZID:Europe/Berlin
X-WR-TIMEZONE:Europe/Berlin
BEGIN:VEVENT
UID:0-358@heldenfingen.albverein.eu
DTSTART;TZID=Europe/Berlin:20260503T133000
DTEND;TZID=Europe/Berlin:20260503T170000
DTSTAMP:20260409T183023Z
URL:https://heldenfingen.albverein.eu/events/waldbegehung-mit-foerster-jul
 ian-denzel/
SUMMARY:Waldbegehung mit Förster Julian Denzel
DESCRIPTION:Am Sonntag\, 03.05.2026 möchten wir gemeinsam mit unseren Orts
 gruppen Dettingen und Gerstetten mit Förster Julian Denzel den Wald und s
 eine Natur hautnah erleben. Nach dem Motto „Ich bin dann mal im Wald “
  Treffpunkt: 13:30 Uhr im Dettinger Gemeindewald: „Parkplatz“ – Ein
 gang Kiesental – Nähe Modellflugplatz IG Hubschrauber Dettingen. Koordi
 naten:  48°36'55.3"N 10°06'12.0"E.\nBitte Fahrgemeinschaften bilden!\nF
 örster Julian Denzel hat uns ein Programm erstellt für Groß und Klein.\
 nBei Fragen wendet Euch gerne an Petra und Bernd Martin (Wanderführer) un
 ter der Telefon Nr. 07324-982994.\nAuch Nichtmitglieder sind herzlich will
 kommen.\nAbendeinkehr ist im Gasthaus Ochsen\, Heldenfingen geplant.\n\n&n
 bsp\;
LOCATION:Dettingen Kiesental\, Wald \, Gerstetten Dettingen \, 89547\, Deut
 schland
GEO:48.615036;10.103417
X-APPLE-STRUCTURED-LOCATION;VALUE=URI;X-ADDRESS=Wald \, Gerstetten Dettinge
 n \, 89547\, Deutschland;X-APPLE-RADIUS=100;X-TITLE=Dettingen Kiesental:ge
 o:48.615036,10.103417
END:VEVENT
BEGIN:VTIMEZONE
TZID:Europe/Berlin
X-LIC-LOCATION:Europe/Berlin
BEGIN:DAYLIGHT
DTSTART:20260329T030000
TZOFFSETFROM:+0100
TZOFFSETTO:+0200
TZNAME:CEST
END:DAYLIGHT
END:VTIMEZONE
END:VCALENDAR